BEGIN:VCALENDAR
VERSION:2.0
PRODID:-//OfficeCom - ECPv6.9.0//NONSGML v1.0//EN
CALSCALE:GREGORIAN
METHOD:PUBLISH
X-WR-CALNAME:OfficeCom
X-ORIGINAL-URL:https://officecom.com.br
X-WR-CALDESC:Eventos para OfficeCom
REFRESH-INTERVAL;VALUE=DURATION:PT1H
X-Robots-Tag:noindex
X-PUBLISHED-TTL:PT1H
BEGIN:VTIMEZONE
TZID:America/Sao_Paulo
BEGIN:STANDARD
TZOFFSETFROM:-0300
TZOFFSETTO:-0300
TZNAME:-03
DTSTART:20230101T000000
END:STANDARD
END:VTIMEZONE
BEGIN:VEVENT
DTSTART;VALUE=DATE:20230704
DTEND;VALUE=DATE:20230705
DTSTAMP:20260423T080050
CREATED:20230714T193224Z
LAST-MODIFIED:20230714T193224Z
UID:9778-1688428800-1688515199@officecom.com.br
SUMMARY:II Edição - MINDSET OfficeCom 2023
DESCRIPTION:Que evento incrível tivemos ontem! \nQueremos compartilhar com vocês um pouco da energia e inspiração que vivenciamos durante o II MINDSET OfficeCom 2023. O tema do evento foi “Colaboração e Trabalho em Equipe”\, e acreditamos que conseguimos transmitir essa mensagem de forma poderosa. \nAgradecemos aos palestrantes inspiradores que compartilharam suas experiências e insights e também a todos os colaboradores que participaram do evento e fizeram dele um sucesso. Vocês são os verdadeiros protagonistas dessa história de colaboração e trabalho em equipe. Continuemos trazendo essa mentalidade para o nosso dia a dia e vamos construir um ambiente de trabalho ainda mais positivo e produtivo.
URL:https://officecom.com.br/event/ii-edicao-mindset-officecom-2023/
LOCATION:Sede OfficeCom Campina Grande
ATTACH;FMTTYPE=image/jpeg:https://officecom.com.br/wp-content/uploads/2023/07/iimindset.jpg
END:VEVENT
END:VCALENDAR