BEGIN:VCALENDAR
VERSION:2.0
PRODID:-//OfficeCom - ECPv6.9.0//NONSGML v1.0//EN
CALSCALE:GREGORIAN
METHOD:PUBLISH
X-ORIGINAL-URL:https://officecom.com.br
X-WR-CALDESC:Eventos para OfficeCom
REFRESH-INTERVAL;VALUE=DURATION:PT1H
X-Robots-Tag:noindex
X-PUBLISHED-TTL:PT1H
BEGIN:VTIMEZONE
TZID:America/Sao_Paulo
BEGIN:STANDARD
TZOFFSETFROM:-0300
TZOFFSETTO:-0300
TZNAME:-03
DTSTART:20230101T000000
END:STANDARD
END:VTIMEZONE
BEGIN:VEVENT
DTSTART;VALUE=DATE:20230823
DTEND;VALUE=DATE:20230826
DTSTAMP:20260423T064303
CREATED:20230714T194102Z
LAST-MODIFIED:20230714T194102Z
UID:9789-1692748800-1693007999@officecom.com.br
SUMMARY:Startup Summit - Florianópolis
DESCRIPTION:
URL:https://officecom.com.br/event/startup-summit-florianopolis/
LOCATION:Florianópolis\, Santa Catarina – Brasil
END:VEVENT
END:VCALENDAR