BEGIN:VCALENDAR
VERSION:2.0
PRODID:-//OfficeCom - ECPv6.9.0//NONSGML v1.0//EN
CALSCALE:GREGORIAN
METHOD:PUBLISH
X-WR-CALNAME:OfficeCom
X-ORIGINAL-URL:https://officecom.com.br
X-WR-CALDESC:Eventos para OfficeCom
REFRESH-INTERVAL;VALUE=DURATION:PT1H
X-Robots-Tag:noindex
X-PUBLISHED-TTL:PT1H
BEGIN:VTIMEZONE
TZID:America/Sao_Paulo
BEGIN:STANDARD
TZOFFSETFROM:-0300
TZOFFSETTO:-0300
TZNAME:-03
DTSTART:20240101T000000
END:STANDARD
END:VTIMEZONE
BEGIN:VEVENT
DTSTART;VALUE=DATE:20240831
DTEND;VALUE=DATE:20240901
DTSTAMP:20260422T112823
CREATED:20240502T165806Z
LAST-MODIFIED:20240502T165806Z
UID:10316-1725062400-1725148799@officecom.com.br
SUMMARY:III DevTECH 2024
DESCRIPTION:
URL:https://officecom.com.br/event/iii-devtech-2024/
END:VEVENT
BEGIN:VEVENT
DTSTART;VALUE=DATE:20240831
DTEND;VALUE=DATE:20240901
DTSTAMP:20260422T112823
CREATED:20240502T165824Z
LAST-MODIFIED:20240502T165824Z
UID:10318-1725062400-1725148799@officecom.com.br
SUMMARY:III SupTECH 2024
DESCRIPTION:
URL:https://officecom.com.br/event/iii-suptech-2024/
END:VEVENT
END:VCALENDAR