BEGIN:VCALENDAR
VERSION:2.0
PRODID:-//OfficeCom - ECPv6.9.0//NONSGML v1.0//EN
CALSCALE:GREGORIAN
METHOD:PUBLISH
X-WR-CALNAME:OfficeCom
X-ORIGINAL-URL:https://officecom.com.br
X-WR-CALDESC:Eventos para OfficeCom
REFRESH-INTERVAL;VALUE=DURATION:PT1H
X-Robots-Tag:noindex
X-PUBLISHED-TTL:PT1H
BEGIN:VTIMEZONE
TZID:America/Sao_Paulo
BEGIN:STANDARD
TZOFFSETFROM:-0300
TZOFFSETTO:-0300
TZNAME:-03
DTSTART:20230101T000000
END:STANDARD
END:VTIMEZONE
BEGIN:VEVENT
DTSTART;VALUE=DATE:20230427
DTEND;VALUE=DATE:20230428
DTSTAMP:20260416T140609
CREATED:20230714T195131Z
LAST-MODIFIED:20230714T195131Z
UID:9804-1682553600-1682639999@officecom.com.br
SUMMARY:Oracle CloudWorld Tour
DESCRIPTION:A OfficeCom foi convidada a participar do evento exclusivo Oracle CloudWorld Tour. O evento ocorrerá em São Paulo no dia 27 de abril de 2023 e é projetado para todos os clientes e parceiros da Oracle. O CloudWorld é o melhor lugar para aprender sobre as soluções da Oracle — incluindo infraestrutura\, bancos de dados e aplicativos — com as pessoas que as criam e usam\, tudo sob o mesmo teto.
URL:https://officecom.com.br/event/oracle-cloudworld-tour/
LOCATION:São Paulo\, SP – Brasil
ATTACH;FMTTYPE=image/jpeg:https://officecom.com.br/wp-content/uploads/2023/04/rc148-ocw23-breakout.jpg
END:VEVENT
BEGIN:VEVENT
DTSTART;VALUE=DATE:20230421
DTEND;VALUE=DATE:20230422
DTSTAMP:20260416T140609
CREATED:20230714T193409Z
LAST-MODIFIED:20230714T193409Z
UID:9781-1682035200-1682121599@officecom.com.br
SUMMARY:Feriado - Tiradentes
DESCRIPTION:
URL:https://officecom.com.br/event/feriado-tiradentes/
END:VEVENT
BEGIN:VEVENT
DTSTART;VALUE=DATE:20230407
DTEND;VALUE=DATE:20230408
DTSTAMP:20260416T140609
CREATED:20230714T185814Z
LAST-MODIFIED:20230714T185911Z
UID:9758-1680825600-1680911999@officecom.com.br
SUMMARY:Feriado - Sexta-Feira Santa
DESCRIPTION:
URL:https://officecom.com.br/event/feriado-sexta-feira-santa/
END:VEVENT
BEGIN:VEVENT
DTSTART;VALUE=DATE:20230331
DTEND;VALUE=DATE:20230401
DTSTAMP:20260416T140609
CREATED:20230714T185627Z
LAST-MODIFIED:20230714T185653Z
UID:9755-1680220800-1680307199@officecom.com.br
SUMMARY:I Edição - MINDSET OfficeCom 2023
DESCRIPTION:A I Edição MINDSET 2023 aconteceu no dia 31 de março de 2023 e foi voltado para o desenvolvimento pessoal de nossos funcionários. Neste evento tivemos especialistas em psicologia e desenvolvimento pessoal compartilhando insights valiosos e práticas eficazes para ajudar os participantes a superar desafios\, aumentar a produtividade e melhorar a qualidade de vida no trabalho remoto. \nTemas como resiliência pessoal\, saúde mental\, motivação e inteligência emocional foram abordados em palestras e dinâmicas entre os membros. A I Edição foi excelente e teremos muito mais para esse ano!
URL:https://officecom.com.br/event/i-edicao-mindset-officecom-2023/
LOCATION:Sede OfficeCom Campina Grande
ATTACH;FMTTYPE=image/jpeg:https://officecom.com.br/wp-content/uploads/2023/04/DSC08467-scaled.jpg
END:VEVENT
BEGIN:VEVENT
DTSTART;VALUE=DATE:20230218
DTEND;VALUE=DATE:20230223
DTSTAMP:20260416T140609
CREATED:20230714T185029Z
LAST-MODIFIED:20230714T185029Z
UID:9753-1676678400-1677110399@officecom.com.br
SUMMARY:Feriado de Carnaval
DESCRIPTION:
URL:https://officecom.com.br/event/feriado-de-carnaval/
END:VEVENT
BEGIN:VEVENT
DTSTART;VALUE=DATE:20230101
DTEND;VALUE=DATE:20230102
DTSTAMP:20260416T140609
CREATED:20230714T184922Z
LAST-MODIFIED:20230714T200132Z
UID:9751-1672531200-1672617599@officecom.com.br
SUMMARY:Feriado - Ano Novo
DESCRIPTION:
URL:https://officecom.com.br/event/feriado-de-ano-novo/
END:VEVENT
END:VCALENDAR