BEGIN:VCALENDAR
VERSION:2.0
PRODID:-//OfficeCom - ECPv6.9.0//NONSGML v1.0//EN
CALSCALE:GREGORIAN
METHOD:PUBLISH
X-ORIGINAL-URL:https://officecom.com.br
X-WR-CALDESC:Eventos para OfficeCom
REFRESH-INTERVAL;VALUE=DURATION:PT1H
X-Robots-Tag:noindex
X-PUBLISHED-TTL:PT1H
BEGIN:VTIMEZONE
TZID:America/Sao_Paulo
BEGIN:STANDARD
TZOFFSETFROM:-0300
TZOFFSETTO:-0300
TZNAME:-03
DTSTART:20230101T000000
END:STANDARD
END:VTIMEZONE
BEGIN:VEVENT
DTSTART;VALUE=DATE:20230501
DTEND;VALUE=DATE:20230502
DTSTAMP:20260423T094039
CREATED:20230714T192203Z
LAST-MODIFIED:20230714T192203Z
UID:9763-1682899200-1682985599@officecom.com.br
SUMMARY:Feriado - Dia do Trabalho
DESCRIPTION:
URL:https://officecom.com.br/event/feriado-dia-do-trabalho/
END:VEVENT
BEGIN:VEVENT
DTSTART;VALUE=DATE:20230527
DTEND;VALUE=DATE:20230528
DTSTAMP:20260423T094039
CREATED:20230714T192337Z
LAST-MODIFIED:20230714T192553Z
UID:9765-1685145600-1685231999@officecom.com.br
SUMMARY:I SupTECH OfficeCom 2023 - Comunicação é o tema!
DESCRIPTION:O I SupTECH Officecom de 2023 ocorreu no dia 27 de maio de 2023 e foi uma experiência valiosa! \nNossa equipe de suporte se dedicou a um treinamento de comunicação e o resultado foi incrível. Tiveram a oportunidade de aprender a arte de ouvir ativamente\, expressar ideias com clareza e empatia\, e a importância de uma comunicação eficaz para proporcionar um suporte excepcional aos nossos clientes. \nAcreditamos que a comunicação é a chave para o sucesso e estamos comprometidos em aprimorá-la continuamente. Estamos entusiasmados com o progresso que fizemos até agora e animados com as possibilidades futuras.
URL:https://officecom.com.br/event/i-suptech-officecom/
LOCATION:Sede OfficeCom Campina Grande
ATTACH;FMTTYPE=image/jpeg:https://officecom.com.br/wp-content/uploads/2023/07/suptech1.jpg
END:VEVENT
END:VCALENDAR