BEGIN:VCALENDAR
VERSION:2.0
PRODID:-//OfficeCom - ECPv6.9.0//NONSGML v1.0//EN
CALSCALE:GREGORIAN
METHOD:PUBLISH
X-ORIGINAL-URL:https://officecom.com.br
X-WR-CALDESC:Eventos para OfficeCom
REFRESH-INTERVAL;VALUE=DURATION:PT1H
X-Robots-Tag:noindex
X-PUBLISHED-TTL:PT1H
BEGIN:VTIMEZONE
TZID:America/Sao_Paulo
BEGIN:STANDARD
TZOFFSETFROM:-0300
TZOFFSETTO:-0300
TZNAME:-03
DTSTART:20230101T000000
END:STANDARD
END:VTIMEZONE
BEGIN:VEVENT
DTSTART;VALUE=DATE:20230608
DTEND;VALUE=DATE:20230609
DTSTAMP:20260423T080329
CREATED:20230714T192621Z
LAST-MODIFIED:20230714T192621Z
UID:9770-1686182400-1686268799@officecom.com.br
SUMMARY:Feriado - Corpus Chrsti
DESCRIPTION:
URL:https://officecom.com.br/event/feriado-corpus-chrsti/
END:VEVENT
BEGIN:VEVENT
DTSTART;VALUE=DATE:20230615
DTEND;VALUE=DATE:20230618
DTSTAMP:20260423T080329
CREATED:20230714T192918Z
LAST-MODIFIED:20230714T192918Z
UID:9772-1686787200-1687046399@officecom.com.br
SUMMARY:Feira Brazilian iGaming Summit 2023
DESCRIPTION:O Brazilian igaming Summit é a principal exposição B2B de iGaming\, Bettech e Apostas esportivas no Brasil e aconteceu nos dias 15 a 17 de julho de 2023 na Transamerica Expo Center em São Paulo-SP. Especialistas e grandes empresas se reuniram para explorar novos avanços em tecnologia e estratégias\, enquanto os participantes tiveram a chance de fazer contatos e encontrar oportunidades interessantes.  \nA OfficeCom esteve presente com a plataforma LOGAME levando inovação e novas tecnologias. A LOGAME é uma plataforma premium onde o cliente tem sua operação exclusiva de jogos esportivos\, cassino e pode desenvolver novos recursos utilizando uma API completa de alto desempenho.  \nSaiba mais em: https://logame.pro
URL:https://officecom.com.br/event/feira-brazilian-igaming-summit-2023/
LOCATION:São Paulo\, SP – Brasil
ATTACH;FMTTYPE=image/jpeg:https://officecom.com.br/wp-content/uploads/2023/04/Expor-2-Alta-468-de-476-scaled.jpg
END:VEVENT
BEGIN:VEVENT
DTSTART;VALUE=DATE:20230623
DTEND;VALUE=DATE:20230625
DTSTAMP:20260423T080329
CREATED:20230714T193007Z
LAST-MODIFIED:20230714T193007Z
UID:9776-1687478400-1687651199@officecom.com.br
SUMMARY:Feriado - São João
DESCRIPTION:
URL:https://officecom.com.br/event/feriado-sao-joao/
END:VEVENT
END:VCALENDAR