BEGIN:VCALENDAR
VERSION:2.0
PRODID:-//OfficeCom - ECPv6.9.0//NONSGML v1.0//EN
CALSCALE:GREGORIAN
METHOD:PUBLISH
X-ORIGINAL-URL:https://officecom.com.br
X-WR-CALDESC:Eventos para OfficeCom
REFRESH-INTERVAL;VALUE=DURATION:PT1H
X-Robots-Tag:noindex
X-PUBLISHED-TTL:PT1H
BEGIN:VTIMEZONE
TZID:America/Sao_Paulo
BEGIN:STANDARD
TZOFFSETFROM:-0300
TZOFFSETTO:-0300
TZNAME:-03
DTSTART:20230101T000000
END:STANDARD
END:VTIMEZONE
BEGIN:VEVENT
DTSTART;VALUE=DATE:20230805
DTEND;VALUE=DATE:20230806
DTSTAMP:20260423T051108
CREATED:20230714T193906Z
LAST-MODIFIED:20230714T193906Z
UID:9787-1691193600-1691279999@officecom.com.br
SUMMARY:Feriado - Fundação do Estado da Paraíba
DESCRIPTION:
URL:https://officecom.com.br/event/feriado-fundacao-do-estado-da-paraiba/
END:VEVENT
BEGIN:VEVENT
DTSTART;VALUE=DATE:20230812
DTEND;VALUE=DATE:20230813
DTSTAMP:20260423T051108
CREATED:20230714T193741Z
LAST-MODIFIED:20230814T144304Z
UID:9785-1691798400-1691884799@officecom.com.br
SUMMARY:II DevTECH OfficeCom 2023 - Explorando Angular: Services\, Diretivas e RxJS.
DESCRIPTION:O II DevTECH\, nosso evento de aprofundamento em desenvolvimento\, realizado em 12/08/2023\, foi realmente incrível! \nDurante esse encontro\, nossos desenvolvedores tiveram a oportunidade enriquecedora de mergulhar nas nuances do Angular 15. O Angular permanece como um dos principais frameworks no universo das aplicações web e dominar suas versões mais recentes é um passo crucial para o êxito de qualquer empreendimento. \nA jornada foi repleta de aprendizado e produtividade\, proporcionando uma valiosa troca de insights e vivências entre todos os participantes.
URL:https://officecom.com.br/event/ii-devtech-officecom-2023-explorando-angular-services-diretivas-e-rxjs/
LOCATION:Sede OfficeCom Campina Grande
ATTACH;FMTTYPE=image/jpeg:https://officecom.com.br/wp-content/uploads/2023/07/foto-devtech21.jpg
END:VEVENT
BEGIN:VEVENT
DTSTART;VALUE=DATE:20230823
DTEND;VALUE=DATE:20230826
DTSTAMP:20260423T051108
CREATED:20230714T194102Z
LAST-MODIFIED:20230714T194102Z
UID:9789-1692748800-1693007999@officecom.com.br
SUMMARY:Startup Summit - Florianópolis
DESCRIPTION:
URL:https://officecom.com.br/event/startup-summit-florianopolis/
LOCATION:Florianópolis\, Santa Catarina – Brasil
END:VEVENT
BEGIN:VEVENT
DTSTART;VALUE=DATE:20230826
DTEND;VALUE=DATE:20230827
DTSTAMP:20260423T051108
CREATED:20230714T200636Z
LAST-MODIFIED:20230814T134919Z
UID:9825-1693008000-1693094399@officecom.com.br
SUMMARY:II SupTECH OfficeCom 2023
DESCRIPTION:
URL:https://officecom.com.br/event/ii-suptech-officecom-2023/
LOCATION:Sede OfficeCom Campina Grande
END:VEVENT
BEGIN:VEVENT
DTSTART;VALUE=DATE:20230829
DTEND;VALUE=DATE:20230901
DTSTAMP:20260423T051108
CREATED:20230714T194144Z
LAST-MODIFIED:20230714T194144Z
UID:9792-1693267200-1693526399@officecom.com.br
SUMMARY:InterSolar South America
DESCRIPTION:
URL:https://officecom.com.br/event/intersolar-south-america/
END:VEVENT
BEGIN:VEVENT
DTSTART;VALUE=DATE:20230831
DTEND;VALUE=DATE:20230901
DTSTAMP:20260423T051108
CREATED:20230822T171325Z
LAST-MODIFIED:20230906T184208Z
UID:10029-1693440000-1693526399@officecom.com.br
SUMMARY:Celebração da Certificação Internacional "Great Place To Work"
DESCRIPTION:É com grande alegria e orgulho que comemoramos a conquista da Certificação Internacional “Great Place to Work”! Esta é uma realização extraordinária que reflete o empenho\, dedicação e comprometimento de cada um de nossos colaboradores para criar um ambiente de trabalho excepcional. \nO evento foi uma oportunidade para celebrarmos juntos essa importante conquista\, reconhecermos os esforços individuais e coletivos que trouxe a OfficeCom até aqui\, e reforçarmos o nosso compromisso contínuo com a excelência\, a colaboração e a inovação. \nA dedicação e trabalho dos nossos colaboradores contribuíram para construir a cultura excepcional que tornou possível essa conquista! \n 
URL:https://officecom.com.br/event/celebracao-da-certificacao-internacional-great-place-to-work/
ATTACH;FMTTYPE=image/jpeg:https://officecom.com.br/wp-content/uploads/2023/08/gptw-geral-scaled.jpg
END:VEVENT
END:VCALENDAR