BEGIN:VCALENDAR
VERSION:2.0
PRODID:-//OfficeCom - ECPv6.9.0//NONSGML v1.0//EN
CALSCALE:GREGORIAN
METHOD:PUBLISH
X-WR-CALNAME:OfficeCom
X-ORIGINAL-URL:https://officecom.com.br
X-WR-CALDESC:Eventos para OfficeCom
REFRESH-INTERVAL;VALUE=DURATION:PT1H
X-Robots-Tag:noindex
X-PUBLISHED-TTL:PT1H
BEGIN:VTIMEZONE
TZID:America/Sao_Paulo
BEGIN:STANDARD
TZOFFSETFROM:-0300
TZOFFSETTO:-0300
TZNAME:-03
DTSTART:20230101T000000
END:STANDARD
END:VTIMEZONE
BEGIN:VEVENT
DTSTART;VALUE=DATE:20230907
DTEND;VALUE=DATE:20230908
DTSTAMP:20260423T034113
CREATED:20230714T194223Z
LAST-MODIFIED:20230714T194223Z
UID:9794-1694044800-1694131199@officecom.com.br
SUMMARY:Feriado - Independência do Brasil
DESCRIPTION:
URL:https://officecom.com.br/event/feriado-independencia-do-brasil/
END:VEVENT
BEGIN:VEVENT
DTSTART;VALUE=DATE:20230913
DTEND;VALUE=DATE:20230914
DTSTAMP:20260423T034113
CREATED:20230714T200736Z
LAST-MODIFIED:20230922T141703Z
UID:9827-1694563200-1694649599@officecom.com.br
SUMMARY:III Edição - MINDSET OfficeCom 2023
DESCRIPTION:Mais um treinamento com esse time espetacular! \nNa última quarta-feira\, dia 13/09\, realizamos um treinamento interno sobre gestão de tempo e comunicação assertiva que foi um verdadeiro marco para o nosso time! Aprofundamos competências essenciais a partir dos insights e experiências da @u2msolucoes . Mais uma vez\, nossa equipe demonstrou sua excelência e comprometimento. \nJuntos\, estamos preparados para enfrentar os desafios com ainda mais eficiência.
URL:https://officecom.com.br/event/iii-edicao-mindset-officecom/
LOCATION:Sede OfficeCom Campina Grande
ATTACH;FMTTYPE=image/png:https://officecom.com.br/wp-content/uploads/2023/07/mindset-iii.png
END:VEVENT
BEGIN:VEVENT
DTSTART;VALUE=DATE:20230918
DTEND;VALUE=DATE:20230919
DTSTAMP:20260423T034113
CREATED:20230714T194328Z
LAST-MODIFIED:20230714T194328Z
UID:9796-1694995200-1695081599@officecom.com.br
SUMMARY:Feriado - Dia do Profissional de TI
DESCRIPTION:
URL:https://officecom.com.br/event/feriado-dia-do-profissional-de-ti/
END:VEVENT
END:VCALENDAR