BEGIN:VCALENDAR
VERSION:2.0
PRODID:-//OfficeCom - ECPv6.9.0//NONSGML v1.0//EN
CALSCALE:GREGORIAN
METHOD:PUBLISH
X-ORIGINAL-URL:https://officecom.com.br
X-WR-CALDESC:Eventos para OfficeCom
REFRESH-INTERVAL;VALUE=DURATION:PT1H
X-Robots-Tag:noindex
X-PUBLISHED-TTL:PT1H
BEGIN:VTIMEZONE
TZID:America/Sao_Paulo
BEGIN:STANDARD
TZOFFSETFROM:-0300
TZOFFSETTO:-0300
TZNAME:-03
DTSTART:20230101T000000
END:STANDARD
END:VTIMEZONE
BEGIN:VEVENT
DTSTART;VALUE=DATE:20231011
DTEND;VALUE=DATE:20231012
DTSTAMP:20260423T015746
CREATED:20230714T194503Z
LAST-MODIFIED:20230714T194503Z
UID:9798-1696982400-1697068799@officecom.com.br
SUMMARY:Feriado - Fundação de Campina Grande
DESCRIPTION:
URL:https://officecom.com.br/event/feriado-fundacao-de-campina-grande/
END:VEVENT
BEGIN:VEVENT
DTSTART;VALUE=DATE:20231012
DTEND;VALUE=DATE:20231013
DTSTAMP:20260423T015746
CREATED:20230714T194551Z
LAST-MODIFIED:20230714T194551Z
UID:9800-1697068800-1697155199@officecom.com.br
SUMMARY:Feriado - Nossa Senhora de Aparecida
DESCRIPTION:
URL:https://officecom.com.br/event/feriado-nossa-senhora-de-aparecida/
END:VEVENT
BEGIN:VEVENT
DTSTART;VALUE=DATE:20231028
DTEND;VALUE=DATE:20231029
DTSTAMP:20260423T015746
CREATED:20230714T194643Z
LAST-MODIFIED:20230714T194643Z
UID:9802-1698451200-1698537599@officecom.com.br
SUMMARY:III DevTECH OfficeCom 2023
DESCRIPTION:
URL:https://officecom.com.br/event/iii-devtech-officecom-2023/
LOCATION:Sede OfficeCom Campina Grande
END:VEVENT
END:VCALENDAR