BEGIN:VCALENDAR
VERSION:2.0
PRODID:-//OfficeCom - ECPv6.9.0//NONSGML v1.0//EN
CALSCALE:GREGORIAN
METHOD:PUBLISH
X-ORIGINAL-URL:https://officecom.com.br
X-WR-CALDESC:Eventos para OfficeCom
REFRESH-INTERVAL;VALUE=DURATION:PT1H
X-Robots-Tag:noindex
X-PUBLISHED-TTL:PT1H
BEGIN:VTIMEZONE
TZID:America/Sao_Paulo
BEGIN:STANDARD
TZOFFSETFROM:-0300
TZOFFSETTO:-0300
TZNAME:-03
DTSTART:20230101T000000
END:STANDARD
END:VTIMEZONE
BEGIN:VEVENT
DTSTART;VALUE=DATE:20231208
DTEND;VALUE=DATE:20231209
DTSTAMP:20260422T223607
CREATED:20230714T195943Z
LAST-MODIFIED:20230714T195943Z
UID:9818-1701993600-1702079999@officecom.com.br
SUMMARY:Feriado - Padroeira
DESCRIPTION:
URL:https://officecom.com.br/event/feriado-padroeira/
END:VEVENT
BEGIN:VEVENT
DTSTART;VALUE=DATE:20231214
DTEND;VALUE=DATE:20231215
DTSTAMP:20260422T223607
CREATED:20230714T200038Z
LAST-MODIFIED:20230714T200038Z
UID:9820-1702512000-1702598399@officecom.com.br
SUMMARY:CONEXÃO - Convenção Anual OfficeCom 2023
DESCRIPTION:
URL:https://officecom.com.br/event/conexao-convencao-anual-officecom-2023/
LOCATION:Sede OfficeCom Campina Grande
END:VEVENT
BEGIN:VEVENT
DTSTART;VALUE=DATE:20231215
DTEND;VALUE=DATE:20240102
DTSTAMP:20260422T223607
CREATED:20231107T121933Z
LAST-MODIFIED:20231107T121933Z
UID:10072-1702598400-1704153599@officecom.com.br
SUMMARY:Recesso
DESCRIPTION:
URL:https://officecom.com.br/event/recesso/
END:VEVENT
BEGIN:VEVENT
DTSTART;VALUE=DATE:20231225
DTEND;VALUE=DATE:20231226
DTSTAMP:20260422T223607
CREATED:20230714T173750Z
LAST-MODIFIED:20230714T200152Z
UID:9728-1703462400-1703548799@officecom.com.br
SUMMARY:Feriado - Natal
DESCRIPTION:
URL:https://officecom.com.br/event/natal/
END:VEVENT
END:VCALENDAR