BEGIN:VCALENDAR
VERSION:2.0
PRODID:-//OfficeCom - ECPv6.9.0//NONSGML v1.0//EN
CALSCALE:GREGORIAN
METHOD:PUBLISH
X-WR-CALNAME:OfficeCom
X-ORIGINAL-URL:https://officecom.com.br
X-WR-CALDESC:Eventos para OfficeCom
REFRESH-INTERVAL;VALUE=DURATION:PT1H
X-Robots-Tag:noindex
X-PUBLISHED-TTL:PT1H
BEGIN:VTIMEZONE
TZID:America/Sao_Paulo
BEGIN:STANDARD
TZOFFSETFROM:-0300
TZOFFSETTO:-0300
TZNAME:-03
DTSTART:20240101T000000
END:STANDARD
END:VTIMEZONE
BEGIN:VEVENT
DTSTART;VALUE=DATE:20240323
DTEND;VALUE=DATE:20240324
DTSTAMP:20260422T173546
CREATED:20231204T130928Z
LAST-MODIFIED:20240502T165344Z
UID:10085-1711152000-1711238399@officecom.com.br
SUMMARY:I Dev+ OfficeCom 2024
DESCRIPTION:
URL:https://officecom.com.br/event/i-dev-officecom-2024/
END:VEVENT
BEGIN:VEVENT
DTSTART;VALUE=DATE:20240329
DTEND;VALUE=DATE:20240330
DTSTAMP:20260422T173546
CREATED:20231204T131234Z
LAST-MODIFIED:20231204T131234Z
UID:10089-1711670400-1711756799@officecom.com.br
SUMMARY:Feriado - Sexta-feira Santa
DESCRIPTION:
URL:https://officecom.com.br/event/feriado-sexta-feira-santa-2/
END:VEVENT
END:VCALENDAR