BEGIN:VCALENDAR
VERSION:2.0
PRODID:-//OfficeCom - ECPv6.9.0//NONSGML v1.0//EN
CALSCALE:GREGORIAN
METHOD:PUBLISH
X-WR-CALNAME:OfficeCom
X-ORIGINAL-URL:https://officecom.com.br
X-WR-CALDESC:Eventos para OfficeCom
REFRESH-INTERVAL;VALUE=DURATION:PT1H
X-Robots-Tag:noindex
X-PUBLISHED-TTL:PT1H
BEGIN:VTIMEZONE
TZID:America/Sao_Paulo
BEGIN:STANDARD
TZOFFSETFROM:-0300
TZOFFSETTO:-0300
TZNAME:-03
DTSTART:20240101T000000
END:STANDARD
END:VTIMEZONE
BEGIN:VEVENT
DTSTART;VALUE=DATE:20240907
DTEND;VALUE=DATE:20240908
DTSTAMP:20260422T080549
CREATED:20231204T133254Z
LAST-MODIFIED:20231204T133254Z
UID:10121-1725667200-1725753599@officecom.com.br
SUMMARY:Feriado - Independência do Brasil
DESCRIPTION:
URL:https://officecom.com.br/event/feriado-independencia-do-brasil-2/
END:VEVENT
BEGIN:VEVENT
DTSTART;VALUE=DATE:20240918
DTEND;VALUE=DATE:20240919
DTSTAMP:20260422T080549
CREATED:20231204T133423Z
LAST-MODIFIED:20231204T133518Z
UID:10123-1726617600-1726703999@officecom.com.br
SUMMARY:Feriado - Dia do Profissional de TI
DESCRIPTION:
URL:https://officecom.com.br/event/feriado-dia-do-profissional-de-ti-2/
END:VEVENT
BEGIN:VEVENT
DTSTART;VALUE=DATE:20240921
DTEND;VALUE=DATE:20240922
DTSTAMP:20260422T080549
CREATED:20231204T133547Z
LAST-MODIFIED:20240502T170007Z
UID:10125-1726876800-1726963199@officecom.com.br
SUMMARY:III Dev+ OfficeCom
DESCRIPTION:
URL:https://officecom.com.br/event/iii-dev-officecom/
END:VEVENT
END:VCALENDAR